BEGIN:VCALENDAR
VERSION:2.0
PRODID:-//Bierland Franken - ECPv6.15.12.2//NONSGML v1.0//EN
CALSCALE:GREGORIAN
METHOD:PUBLISH
X-WR-CALNAME:Bierland Franken
X-ORIGINAL-URL:https://www.bierland-franken.de
X-WR-CALDESC:Veranstaltungen für Bierland Franken
REFRESH-INTERVAL;VALUE=DURATION:PT1H
X-Robots-Tag:noindex
X-PUBLISHED-TTL:PT1H
BEGIN:VTIMEZONE
TZID:Europe/Berlin
BEGIN:DAYLIGHT
TZOFFSETFROM:+0100
TZOFFSETTO:+0200
TZNAME:CEST
DTSTART:20210328T010000
END:DAYLIGHT
BEGIN:STANDARD
TZOFFSETFROM:+0200
TZOFFSETTO:+0100
TZNAME:CET
DTSTART:20211031T010000
END:STANDARD
BEGIN:DAYLIGHT
TZOFFSETFROM:+0100
TZOFFSETTO:+0200
TZNAME:CEST
DTSTART:20220327T010000
END:DAYLIGHT
BEGIN:STANDARD
TZOFFSETFROM:+0200
TZOFFSETTO:+0100
TZNAME:CET
DTSTART:20221030T010000
END:STANDARD
BEGIN:DAYLIGHT
TZOFFSETFROM:+0100
TZOFFSETTO:+0200
TZNAME:CEST
DTSTART:20230326T010000
END:DAYLIGHT
BEGIN:STANDARD
TZOFFSETFROM:+0200
TZOFFSETTO:+0100
TZNAME:CET
DTSTART:20231029T010000
END:STANDARD
BEGIN:DAYLIGHT
TZOFFSETFROM:+0100
TZOFFSETTO:+0200
TZNAME:CEST
DTSTART:20240331T010000
END:DAYLIGHT
BEGIN:STANDARD
TZOFFSETFROM:+0200
TZOFFSETTO:+0100
TZNAME:CET
DTSTART:20241027T010000
END:STANDARD
BEGIN:DAYLIGHT
TZOFFSETFROM:+0100
TZOFFSETTO:+0200
TZNAME:CEST
DTSTART:20250330T010000
END:DAYLIGHT
BEGIN:STANDARD
TZOFFSETFROM:+0200
TZOFFSETTO:+0100
TZNAME:CET
DTSTART:20251026T010000
END:STANDARD
BEGIN:DAYLIGHT
TZOFFSETFROM:+0100
TZOFFSETTO:+0200
TZNAME:CEST
DTSTART:20260329T010000
END:DAYLIGHT
BEGIN:STANDARD
TZOFFSETFROM:+0200
TZOFFSETTO:+0100
TZNAME:CET
DTSTART:20261025T010000
END:STANDARD
END:VTIMEZONE
BEGIN:VEVENT
DTSTART;TZID=Europe/Berlin:20251108T110000
DTEND;TZID=Europe/Berlin:20251108T235900
DTSTAMP:20260419T144308
CREATED:20220914T132215Z
LAST-MODIFIED:20250908T101320Z
UID:10000076-1762599600-1762646340@www.bierland-franken.de
SUMMARY:Brauerei Will Schederndorf | Bockbier Anstich
DESCRIPTION:
URL:https://www.bierland-franken.de/event/brauerei-will-schederndorf-bockbier-anstich/
LOCATION:Brauerei Will\, Schederndorf 19\, Stadelhofen - Schederndorf\, 96187\, Deutschland
CATEGORIES:Bockbieranstiche
END:VEVENT
BEGIN:VEVENT
DTSTART;VALUE=DATE:20221015
DTEND;VALUE=DATE:20221016
DTSTAMP:20260419T144308
CREATED:20220914T132002Z
LAST-MODIFIED:20220914T132002Z
UID:10000075-1665792000-1665878399@www.bierland-franken.de
SUMMARY:Brauerei Will Schederndorf | Rauchbier Anstich
DESCRIPTION:
URL:https://www.bierland-franken.de/event/brauerei-will-schederndorf-rauchbier-anstich/
LOCATION:Brauerei Will\, Schederndorf 19\, Stadelhofen - Schederndorf\, 96187\, Deutschland
CATEGORIES:Bockbieranstiche
END:VEVENT
END:VCALENDAR