BEGIN:VCALENDAR
VERSION:2.0
PRODID:-//Bierland Franken - ECPv6.15.12.2//NONSGML v1.0//EN
CALSCALE:GREGORIAN
METHOD:PUBLISH
X-WR-CALNAME:Bierland Franken
X-ORIGINAL-URL:https://www.bierland-franken.de
X-WR-CALDESC:Veranstaltungen für Bierland Franken
REFRESH-INTERVAL;VALUE=DURATION:PT1H
X-Robots-Tag:noindex
X-PUBLISHED-TTL:PT1H
BEGIN:VTIMEZONE
TZID:Europe/Berlin
BEGIN:DAYLIGHT
TZOFFSETFROM:+0100
TZOFFSETTO:+0200
TZNAME:CEST
DTSTART:20230326T010000
END:DAYLIGHT
BEGIN:STANDARD
TZOFFSETFROM:+0200
TZOFFSETTO:+0100
TZNAME:CET
DTSTART:20231029T010000
END:STANDARD
BEGIN:DAYLIGHT
TZOFFSETFROM:+0100
TZOFFSETTO:+0200
TZNAME:CEST
DTSTART:20240331T010000
END:DAYLIGHT
BEGIN:STANDARD
TZOFFSETFROM:+0200
TZOFFSETTO:+0100
TZNAME:CET
DTSTART:20241027T010000
END:STANDARD
BEGIN:DAYLIGHT
TZOFFSETFROM:+0100
TZOFFSETTO:+0200
TZNAME:CEST
DTSTART:20250330T010000
END:DAYLIGHT
BEGIN:STANDARD
TZOFFSETFROM:+0200
TZOFFSETTO:+0100
TZNAME:CET
DTSTART:20251026T010000
END:STANDARD
END:VTIMEZONE
BEGIN:VEVENT
DTSTART;TZID=Europe/Berlin:20241025T173000
DTEND;TZID=Europe/Berlin:20241025T230000
DTSTAMP:20260420T065058
CREATED:20241004T162137Z
LAST-MODIFIED:20241004T162137Z
UID:10000180-1729877400-1729897200@www.bierland-franken.de
SUMMARY:Festbockanstich SCHWIND Bräu Schweinheim
DESCRIPTION:
URL:https://www.bierland-franken.de/event/festbockanstich-schwind-braeu-schweinheim/
LOCATION:SCHWIND Bräu Schweinheim\, Schweinheimer Straße 117\, Aschaffenburg\, Bayern\, 63743\, Deutschland
CATEGORIES:Bockbieranstiche
END:VEVENT
END:VCALENDAR